BEGIN:VCALENDAR
PRODID:-//github.com/rianjs/ical.net//NONSGML ical.net 4.0//EN
VERSION:2.0
BEGIN:VEVENT
DESCRIPTION:Details:\nhttps://bbyo.org/bbyo-near-you/regions/south-jersey-
 region/sjr-spring-thing-2024
DTEND:20240519T153000
DTSTAMP:20260421T221243Z
DTSTART:20240517T130000
LOCATION:Camp Saginaw
SEQUENCE:0
SUMMARY:SJR Spring Thing 2024
UID:c0d8799e-7a0c-4044-8dfb-133ec928066d
END:VEVENT
END:VCALENDAR
