BEGIN:VCALENDAR
PRODID:-//github.com/rianjs/ical.net//NONSGML ical.net 4.0//EN
VERSION:2.0
BEGIN:VEVENT
DESCRIPTION:Details:\nhttps://bbyo.org/bbyo-near-you/regions/mountain-regi
 on/spirit-convention-2020-scottsdale-bus\n\nSummary:\nFor all those atten
 ding Spirit Convention 2020 from Scottsdale\, there will be an optional b
 us that will pick up
DTEND;VALUE=DATE:20200119
DTSTAMP:20260419T213553Z
DTSTART:20200117T150000
LOCATION:Valley of the Sun JC
SEQUENCE:0
SUMMARY:Spirit Convention 2020 Scottsdale Bus
UID:fde4bf8b-0607-40cb-9e0c-bf04ea66f2e6
END:VEVENT
END:VCALENDAR
