BEGIN:VCALENDAR
PRODID:-//github.com/rianjs/ical.net//NONSGML ical.net 4.0//EN
VERSION:2.0
BEGIN:VEVENT
DESCRIPTION:Details:\nhttps://bbyo.org/bbyo-near-you/regions/big-apple-reg
 ion/bar-regional-leadership-training-institute
DTEND;VALUE=DATE:20170910
DTSTAMP:20260423T042958Z
DTSTART;VALUE=DATE:20170909
LOCATION:
SEQUENCE:0
SUMMARY:BAR Regional Leadership Training Institute
UID:4527ac46-d876-47a9-8c99-4e8563c6ec8b
END:VEVENT
END:VCALENDAR
