BEGIN:VCALENDAR
PRODID:-//github.com/rianjs/ical.net//NONSGML ical.net 4.0//EN
VERSION:2.0
BEGIN:VEVENT
DESCRIPTION:Details:\nhttps://bbyo.org/bbyo-near-you/regions/mountain-regi
 on/minute-to-win-it-and-so-you-think-you-can-rap\n\nSummary:\n7:00-7:10 A
 wait for the arrival of the Boys\n7:10-7:15 Explain the event \n7:15-7:35
  Minute to Win It challenges - They will have three games going at once \
 n-Stack the Cups (The contestants
DTEND:20161205T203000
DTSTAMP:20260420T162124Z
DTSTART:20161205T190000
LOCATION:Valley of the Sun JCC
SEQUENCE:0
SUMMARY:Minute to Win It and So You Think You Can Rap?
UID:2dfb0ec0-9993-49ac-9bb6-b10057e4dae4
END:VEVENT
END:VCALENDAR
