BEGIN:VCALENDAR
PRODID:-//github.com/rianjs/ical.net//NONSGML ical.net 4.0//EN
VERSION:2.0
BEGIN:VEVENT
DESCRIPTION:Details:\nhttps://bbyo.org/bbyo-near-you/regions/lonestar-regi
 on/austin-new-member-pick-up-(1)
DTEND:20240303T170000
DTSTAMP:20260423T195356Z
DTSTART:20240303T143000
LOCATION:Shalom Austin - AJA
SEQUENCE:0
SUMMARY:Austin New Member Pick Up
UID:3e18526d-8da5-4d28-8e23-83264bc31d0c
END:VEVENT
END:VCALENDAR
