BEGIN:VCALENDAR
PRODID:-//github.com/rianjs/ical.net//NONSGML ical.net 4.0//EN
VERSION:2.0
BEGIN:VEVENT
DESCRIPTION:Details:\nhttps://bbyo.org/bbyo-near-you/regions/great-midwest
 -region/naperville-giving-bbyo-day\n\nSummary:\nJoin us for BBYO's bigges
 t fundraiser of the year! Throughout the region we will gathering to rais
 e money for GMR\, hang out with our BBYO family\, and have the chance to 
 win raffle prizes such as gift cards\, money off community programs\, and
  more!
DTEND:20191203T203000
DTSTAMP:20260420T101340Z
DTSTART:20191203T183000
LOCATION:Naperville Illinois
SEQUENCE:0
SUMMARY:Naperville Giving BBYO Day
UID:eb240bb8-6727-432e-aa75-f7e375ef42a5
END:VEVENT
END:VCALENDAR
