BEGIN:VCALENDAR
PRODID:-//github.com/rianjs/ical.net//NONSGML ical.net 4.0//EN
VERSION:2.0
BEGIN:VEVENT
DESCRIPTION:Details:\nhttps://bbyo.org/bbyo-near-you/regions/greater-jerse
 y-region/3000-gjhrr-rlti-council-board-training-2015\n\nSummary:\nBUS lea
 ves from regional office at about 1:pm\nNO TEEN DRIVING\nRegional/council
  board training
DTEND:20150823T140000
DTSTAMP:20260422T120417Z
DTSTART:20150821T160000
LOCATION:YMHA CAMP Milford\, Pa.
SEQUENCE:0
SUMMARY:3000 GJHRR RLTI Council Board Training 2015
UID:7762012d-b538-4f63-ab9d-c36b8a5b6167
END:VEVENT
END:VCALENDAR
