BEGIN:VCALENDAR
PRODID:-//github.com/rianjs/ical.net//NONSGML ical.net 4.0//EN
VERSION:2.0
BEGIN:VEVENT
DESCRIPTION:Details:\nhttps://bbyo.org/bbyo-near-you/regions/northern-regi
 on-east-dc-council/bbyo-dc-council-spring-kickoff
DTEND:20180127T000100
DTSTAMP:20260422T202650Z
DTSTART;VALUE=DATE:20180127
LOCATION:
SEQUENCE:0
SUMMARY:BBYO DC Council Spring Kickoff
UID:1afc414c-b4b5-449f-ab51-6f43e3716ec4
END:VEVENT
END:VCALENDAR
