BEGIN:VCALENDAR
PRODID:-//github.com/rianjs/ical.net//NONSGML ical.net 4.0//EN
VERSION:2.0
BEGIN:VEVENT
DESCRIPTION:Details:\nhttps://bbyo.org/bbyo-near-you/regions/northern-regi
 on-east-dc-council/d-c-kick-off
DTEND:20160917T000100
DTSTAMP:20260423T042647Z
DTSTART;VALUE=DATE:20160917
LOCATION:
SEQUENCE:0
SUMMARY:D.C. Kick Off
UID:1d966c62-1a6a-4879-9bde-840eac1aa6d3
END:VEVENT
END:VCALENDAR
