BEGIN:VCALENDAR
PRODID:-//github.com/rianjs/ical.net//NONSGML ical.net 4.0//EN
VERSION:2.0
BEGIN:VEVENT
DESCRIPTION:Details:\nhttps://bbyo.org/bbyo-near-you/regions/michigan-regi
 on/azaa-flag-football-(2)\n\nSummary:\nJoin AZAA for their spring Flag Fo
 otball League. Create your own or be added to a team. Registration closes
  April 7th at 5pm est.
DTEND:20210523T120000
DTSTAMP:20260423T093313Z
DTSTART:20210501T100000
LOCATION:
SEQUENCE:0
SUMMARY:AZAA Flag Football
UID:a8ef4bd0-a5d5-459a-b574-0957082ed4ea
END:VEVENT
END:VCALENDAR
