BEGIN:VCALENDAR
PRODID:-//github.com/rianjs/ical.net//NONSGML ical.net 4.0//EN
VERSION:2.0
BEGIN:VEVENT
DESCRIPTION:Details:\nhttps://bbyo.org/bbyo-near-you/regions/mid-america-r
 egion-kansas-city-council/spring-recruitment-kickoff-at-powerplay\n\nSumm
 ary:\nAs of January 1st 8th grade teens can officially join BBYO! BBYO te
 en leaders and 8th grade teens will be kicking off the new year at Power 
 Play\; introducing 8th graders to BBYO and getting
DTEND:20160110T150000
DTSTAMP:20260422T221431Z
DTSTART:20160110T130000
LOCATION:Power Play
SEQUENCE:0
SUMMARY:Spring Recruitment Kickoff at PowerPlay
UID:3a4ae6f9-358c-437f-b71d-79b6fd78e0ef
END:VEVENT
END:VCALENDAR
