BEGIN:VCALENDAR
PRODID:-//github.com/rianjs/ical.net//NONSGML ical.net 4.0//EN
VERSION:2.0
BEGIN:VEVENT
DESCRIPTION:Details:\nhttps://bbyo.org/bbyo-near-you/regions/central-regio
 n-west/crw-cubs-(8th-9th-grade)-bowling
DTEND:20240331T160000
DTSTAMP:20260423T200316Z
DTSTART:20240331T140000
LOCATION:San Mateo California
SEQUENCE:0
SUMMARY:CRW Cubs (8th/9th Grade) Bowling
UID:0ca4708a-5b4d-49ac-b56a-8d7558441e78
END:VEVENT
END:VCALENDAR
