BEGIN:VCALENDAR
PRODID:-//github.com/rianjs/ical.net//NONSGML ical.net 4.0//EN
VERSION:2.0
BEGIN:VEVENT
DESCRIPTION:Details:\nhttps://bbyo.org/bbyo-near-you/regions/michigan-regi
 on/the-gorosh-family-building-entrepreneurship-pr-(2)
DTEND:20231217T120000
DTSTAMP:20260423T200725Z
DTSTART:20231215T161500
LOCATION:
SEQUENCE:0
SUMMARY:The Gorosh Family Building Entrepreneurship Program for AZA
UID:a014f3b5-7060-4e00-ad56-cf1fe37382b0
END:VEVENT
END:VCALENDAR
