BEGIN:VCALENDAR
PRODID:-//github.com/rianjs/ical.net//NONSGML ical.net 4.0//EN
VERSION:2.0
BEGIN:VEVENT
DESCRIPTION:Details:\nhttps://bbyo.org/bbyo-near-you/regions/mid-america-r
 egion-north-star-council/bbyo-northstar-kickoff\n\nSummary:\nJoin Northst
 ar Council as we kickoff an incredible year of programming with our Ninja
  Warrior challenge. We are looking forward to seeing who can climb the hi
 ghest\, jump the further and have
DTEND:20190914T200000
DTSTAMP:20260425T182826Z
DTSTART:20190914T183000
LOCATION:Eden Prairie Minnesota
SEQUENCE:0
SUMMARY:BBYO Northstar Kickoff
UID:86a76174-7f20-46f9-a101-f3e501e74155
END:VEVENT
END:VCALENDAR
