BEGIN:VCALENDAR
PRODID:-//github.com/rianjs/ical.net//NONSGML ical.net 4.0//EN
VERSION:2.0
BEGIN:VEVENT
DESCRIPTION:Details:\nhttps://bbyo.org/bbyo-near-you/regions/mountain-regi
 on/scottsdale-phoenix-chapter-execs
DTEND:20240811T150000
DTSTAMP:20260423T132247Z
DTSTART:20240811T130000
LOCATION:JCC
SEQUENCE:0
SUMMARY:Scottsdale/Phoenix Chapter Execs
UID:b44b3608-d6f1-49ea-9e65-07059d818a2e
END:VEVENT
END:VCALENDAR
