BEGIN:VCALENDAR
PRODID:-//github.com/rianjs/ical.net//NONSGML ical.net 4.0//EN
VERSION:2.0
BEGIN:VEVENT
DESCRIPTION:Details:\nhttps://bbyo.org/bbyo-near-you/regions/new-england-r
 egion/separates
DTEND;VALUE=DATE:20151013
DTSTAMP:20260421T082157Z
DTSTART;VALUE=DATE:20151013
LOCATION:
SEQUENCE:0
SUMMARY:Separates
UID:fca7bb43-31a7-4c87-97af-b0f83b4999e6
END:VEVENT
END:VCALENDAR
