BEGIN:VCALENDAR
PRODID:-//github.com/rianjs/ical.net//NONSGML ical.net 4.0//EN
VERSION:2.0
BEGIN:VEVENT
DESCRIPTION:Details:\nhttps://bbyo.org/bbyo-near-you/regions/nassau-suffol
 k-region/aza-basketball-1-18\n\nSummary:\nLong Beach AZA Baskeball
DTEND:20060118T220000
DTSTAMP:20260426T030611Z
DTSTART;VALUE=DATE:20060118
LOCATION:HANC School Gym
SEQUENCE:0
SUMMARY:AZA Basketball 1/18
UID:cc8ae261-fb31-4b8b-944f-16954657982e
END:VEVENT
END:VCALENDAR
