BEGIN:VCALENDAR
PRODID:-//github.com/rianjs/ical.net//NONSGML ical.net 4.0//EN
VERSION:2.0
BEGIN:VEVENT
DESCRIPTION:Details:\nhttps://bbyo.org/bbyo-near-you/regions/mid-america-r
 egion-north-star-council/kallah-2021
DTEND:20210803T090000
DTSTAMP:20260425T235207Z
DTSTART:20210714T120000
LOCATION:Lake Como Pennsylvania
SEQUENCE:0
SUMMARY:Kallah 2021
UID:b3f52096-7e69-41a9-a55b-377e4e4c008c
END:VEVENT
END:VCALENDAR
