BEGIN:VCALENDAR
PRODID:-//github.com/rianjs/ical.net//NONSGML ical.net 4.0//EN
VERSION:2.0
BEGIN:VEVENT
DESCRIPTION:Details:\nhttps://bbyo.org/bbyo-near-you/regions/great-midwest
 -region/invite-convention-and-global-shabbat\n\nSummary:\nGMR's biggest a
 nd most spirited Convention of the year!\n\nCome join us for our Global S
 habbat\, Spirit Competitions\, Alumni of the Year reception\, and NEW sur
 prises this year!
DTEND:20181202T140000
DTSTAMP:20260425T235216Z
DTSTART:20181130T160000
LOCATION:Northbrook  Illinois
SEQUENCE:0
SUMMARY:Invite Convention and Global Shabbat
UID:db16af35-eb49-434b-a08b-5465401f5bf4
END:VEVENT
END:VCALENDAR
