BEGIN:VCALENDAR
PRODID:-//github.com/rianjs/ical.net//NONSGML ical.net 4.0//EN
VERSION:2.0
BEGIN:VEVENT
DESCRIPTION:Details:\nhttps://bbyo.org/bbyo-near-you/regions/kentucky-indi
 ana-ohio-region/kio-swag-bag-ic-2024
DTEND;VALUE=DATE:20240219
DTSTAMP:20260422T120240Z
DTSTART;VALUE=DATE:20240215
LOCATION:
SEQUENCE:0
SUMMARY:KIO SWAG BAG - IC 2024
UID:7392d9ca-67a4-4698-80af-ac3e8b64ba3c
END:VEVENT
END:VCALENDAR
