BEGIN:VCALENDAR
PRODID:-//github.com/rianjs/ical.net//NONSGML ical.net 4.0//EN
VERSION:2.0
BEGIN:VEVENT
DESCRIPTION:Details:\nhttps://bbyo.org/bbyo-near-you/regions/north-texas-o
 klahoma-region/azaa-bbgg-basketball-week-3
DTEND:20220320T180000
DTSTAMP:20260423T133825Z
DTSTART:20220320T150000
LOCATION:Dallas Texas
SEQUENCE:0
SUMMARY:AZAA + BBGG Basketball: Week 3
UID:3c16c9e0-d827-4a25-b459-d9c0776dfa58
END:VEVENT
END:VCALENDAR
