BEGIN:VCALENDAR
PRODID:-//github.com/rianjs/ical.net//NONSGML ical.net 4.0//EN
VERSION:2.0
BEGIN:VEVENT
DESCRIPTION:Details:\nhttps://bbyo.org/bbyo-near-you/regions/miami-region/
 regional-board-elections
DTEND:20240519T173000
DTSTAMP:20260425T194824Z
DTSTART:20240519T153000
LOCATION:Miami Florida
SEQUENCE:0
SUMMARY:Regional Board Elections
UID:6ce4cf42-8790-4eea-9393-241b97937a5a
END:VEVENT
END:VCALENDAR
