BEGIN:VCALENDAR
PRODID:-//github.com/rianjs/ical.net//NONSGML ical.net 4.0//EN
VERSION:2.0
BEGIN:VEVENT
DESCRIPTION:Details:\nhttps://bbyo.org/bbyo-near-you/regions/greater-jerse
 y-region/gjhrr-rlti-2016-pc-3000\n\nSummary:\nRLTI is the first conventio
 n of the GJHRR programming year and the best way to kick it off!  All tee
 ns interested in learning more about leadership\, BBYO\, spending time wi
 th their friends\, a
DTEND:20160824T121500
DTSTAMP:20260422T054625Z
DTSTART:20160821T110000
LOCATION:Camp Nah Jee Wah
SEQUENCE:0
SUMMARY:GJHRR RLTI 2016 PC 3000
UID:149b1b9e-22a8-4284-8adb-b4c7aed9ee9e
END:VEVENT
END:VCALENDAR
