BEGIN:VCALENDAR
PRODID:-//github.com/rianjs/ical.net//NONSGML ical.net 4.0//EN
VERSION:2.0
BEGIN:VEVENT
DESCRIPTION:Details:\nhttps://bbyo.org/bbyo-near-you/regions/delta-region/
 memphis-bbyo-fall-fest-csr
DTEND:20171126T000100
DTSTAMP:20260423T002012Z
DTSTART;VALUE=DATE:20171126
LOCATION:
SEQUENCE:0
SUMMARY:Memphis BBYO Fall Fest CSR
UID:ce08941a-b1cc-4931-9624-0ea672301c4a
END:VEVENT
END:VCALENDAR
