BEGIN:VCALENDAR
PRODID:-//github.com/rianjs/ical.net//NONSGML ical.net 4.0//EN
VERSION:2.0
BEGIN:VEVENT
DESCRIPTION:Details:\nhttps://bbyo.org/bbyo-near-you/regions/central-regio
 n-west/cltc-6-(11)\n\nSummary:\nChapter Leadership Training Conference\, 
 CLTC\, is designed for AZA and BBG members who want to learn how to build
  and strengthen their chapter. At CLTC\, teens have fun with peers from a
 cro
DTEND:20170723T050000
DTSTAMP:20260424T083400Z
DTSTART:20170711T090000
LOCATION:Bethany Campus
SEQUENCE:0
SUMMARY:CLTC 6
UID:c06a327a-e858-4e2a-9391-0b3ecd31cd2e
END:VEVENT
END:VCALENDAR
