BEGIN:VCALENDAR
PRODID:-//github.com/rianjs/ical.net//NONSGML ical.net 4.0//EN
VERSION:2.0
BEGIN:VEVENT
DESCRIPTION:Details:\nhttps://bbyo.org/bbyo-near-you/regions/gold-coast-re
 gion/cltc-5-2021-(1)
DTEND:20210815T090000
DTSTAMP:20260423T043101Z
DTSTART:20210803T120000
LOCATION:Wayne County Pennsylvania
SEQUENCE:0
SUMMARY:CLTC 5 2021
UID:5900dc14-4729-41fd-93cc-75c7493fa53a
END:VEVENT
END:VCALENDAR
