BEGIN:VCALENDAR
PRODID:-//github.com/rianjs/ical.net//NONSGML ical.net 4.0//EN
VERSION:2.0
BEGIN:VEVENT
DESCRIPTION:Details:\nhttps://bbyo.org/bbyo-near-you/regions/south-jersey-
 region/ic-registration-night\n\nSummary:\nJoin us to celebrate IC 2019 re
 gistration being open as well as sign up in person!
DTEND:20181004T210000
DTSTAMP:20260420T191912Z
DTSTART:20181004T190000
LOCATION:Passariello's Voorhees
SEQUENCE:0
SUMMARY:IC Registration Night
UID:a6b83052-e614-4d5c-9f17-656527d9d83a
END:VEVENT
END:VCALENDAR
