BEGIN:VCALENDAR
PRODID:-//github.com/rianjs/ical.net//NONSGML ical.net 4.0//EN
VERSION:2.0
BEGIN:VEVENT
DESCRIPTION:Details:\nhttps://bbyo.org/bbyo-near-you/regions/south-jersey-
 region/october-bbyo-night!\n\nSummary:\nJoin SJR for yet another awesome 
 BBYO night!! The first hour will be a regional program based around our S
 tand Up! cause\, bullying.  The second hour will be the traditional chapt
 er time wher
DTEND:20161030T210000
DTSTAMP:20260420T180516Z
DTSTART:20161030T190000
LOCATION:Katz JCC
SEQUENCE:0
SUMMARY:October BBYO Night!
UID:000a8c68-f405-461d-859b-cd49ccb59a72
END:VEVENT
END:VCALENDAR
