BEGIN:VCALENDAR
PRODID:-//github.com/rianjs/ical.net//NONSGML ical.net 4.0//EN
VERSION:2.0
BEGIN:VEVENT
DESCRIPTION:Details:\nhttps://bbyo.org/bbyo-near-you/regions/northern-regi
 on-east-northern-virginia-council/ic-2024-launch-party-at-the-dc-hub
DTEND:20230928T200000
DTSTAMP:20260423T042653Z
DTSTART:20230928T190000
LOCATION:DC Hub
SEQUENCE:0
SUMMARY:IC 2024 Launch Party at the DC HUB
UID:4e88f138-183b-4eed-9e96-737a4dedb3f3
END:VEVENT
END:VCALENDAR
