BEGIN:VCALENDAR
PRODID:-//github.com/rianjs/ical.net//NONSGML ical.net 4.0//EN
VERSION:2.0
BEGIN:VEVENT
DESCRIPTION:Details:\nhttps://bbyo.org/bbyo-near-you/regions/michigan-regi
 on/general-board-retreat-(1)
DTEND:20230115T153000
DTSTAMP:20260420T082533Z
DTSTART:20230115T100000
LOCATION:BBYO Office
SEQUENCE:0
SUMMARY:General Board Retreat
UID:5c066abb-8c80-4496-a2cf-c3806f1eac1e
END:VEVENT
END:VCALENDAR
