BEGIN:VCALENDAR
PRODID:-//github.com/rianjs/ical.net//NONSGML ical.net 4.0//EN
VERSION:2.0
BEGIN:VEVENT
DESCRIPTION:Details:\nhttps://bbyo.org/bbyo-near-you/regions/mountain-regi
 on/phoenix-ic-registration-launch-night
DTEND:20190926T180000
DTSTAMP:20260425T183301Z
DTSTART:20190926T170000
LOCATION:Valley of the Sun JCC
SEQUENCE:0
SUMMARY:Phoenix IC Registration Launch Night
UID:86d38e02-8a2f-46d7-adaf-8a327b965ec7
END:VEVENT
END:VCALENDAR
