BEGIN:VCALENDAR
PRODID:-//github.com/rianjs/ical.net//NONSGML ical.net 4.0//EN
VERSION:2.0
BEGIN:VEVENT
DESCRIPTION:Details:\nhttps://bbyo.org/bbyo-near-you/regions/northern-regi
 on-east-dc-council/azaa-flag-football-week-3\n\nSummary:\nSign up to play
  for the third week of the AZAA Flag Football Tournament! The tournament 
 is held over the course of six weeks and anyone can play (as long as they
  have a filled out sports wai
DTEND:20180930T120000
DTSTAMP:20260425T235138Z
DTSTART:20180930T093000
LOCATION:Rockville Maryland
SEQUENCE:0
SUMMARY:AZAA Flag Football Week 3
UID:cc5772e8-2af7-4902-863d-3ce991224b02
END:VEVENT
END:VCALENDAR
