BEGIN:VCALENDAR
PRODID:-//github.com/rianjs/ical.net//NONSGML ical.net 4.0//EN
VERSION:2.0
BEGIN:VEVENT
DESCRIPTION:Details:\nhttps://bbyo.org/bbyo-near-you/regions/michigan-regi
 on/aza-flag-football-league\n\nSummary:\nThe AZA Flag Football League con
 sists of 13 teams competing on Sunday afternoons between 1:00-4:00 p.m.  
 As most chapters have multiple teams\, the emphasis is on fraternalism\, 
 participation\,
DTEND:20051204T160000
DTSTAMP:20260423T133832Z
DTSTART:20050925T130000
LOCATION:West Bloomfield Jewish Community Center
SEQUENCE:0
SUMMARY:AZA Flag Football League
UID:6f9fa7b0-aae3-4869-a19c-280c24aff204
END:VEVENT
END:VCALENDAR
