BEGIN:VCALENDAR
PRODID:-//github.com/rianjs/ical.net//NONSGML ical.net 4.0//EN
VERSION:2.0
BEGIN:VEVENT
DESCRIPTION:Details:\nhttps://bbyo.org/bbyo-near-you/regions/michigan-regi
 on/ylc-2023
DTEND:20230312T130000
DTSTAMP:20260422T101327Z
DTSTART:20230310T170000
LOCATION:Tamarack Camps
SEQUENCE:0
SUMMARY:YLC 2023
UID:2f8f147b-554b-4c0a-acbe-f3a6201a37fa
END:VEVENT
END:VCALENDAR
