BEGIN:VCALENDAR
PRODID:-//github.com/rianjs/ical.net//NONSGML ical.net 4.0//EN
VERSION:2.0
BEGIN:VEVENT
DESCRIPTION:Details:\nhttps://bbyo.org/bbyo-near-you/regions/mid-america-r
 egion-omaha-council/omaha-council-spring-kickoff-hockey-night
DTEND:20200223T200000
DTSTAMP:20260421T083217Z
DTSTART:20200223T160500
LOCATION:Omaha Nebraska
SEQUENCE:0
SUMMARY:Omaha Council Spring Kickoff- Hockey Night
UID:15b98ab6-d810-4874-80ba-e8af2fd9dd53
END:VEVENT
END:VCALENDAR
