BEGIN:VCALENDAR
PRODID:-//github.com/rianjs/ical.net//NONSGML ical.net 4.0//EN
VERSION:2.0
BEGIN:VEVENT
DESCRIPTION:Details:\nhttps://bbyo.org/bbyo-near-you/regions/mid-america-r
 egion-north-star-council/hanukkah\,-oh-hanukkah!
DTEND:20231214T203000
DTSTAMP:20260420T180506Z
DTSTART:20231214T190000
LOCATION:Minneapolis Minnesota
SEQUENCE:0
SUMMARY:Hanukkah\, Oh Hanukkah!
UID:22663fe2-1b55-47cb-9bd6-cd38c84344c5
END:VEVENT
END:VCALENDAR
