BEGIN:VCALENDAR
PRODID:-//github.com/rianjs/ical.net//NONSGML ical.net 4.0//EN
VERSION:2.0
BEGIN:VEVENT
DESCRIPTION:Details:\nhttps://bbyo.org/bbyo-near-you/regions/great-midwest
 -region/zoom-test-event-(2)
DTEND;VALUE=DATE:20200425
DTSTAMP:20260425T194253Z
DTSTART;VALUE=DATE:20200424
LOCATION:Zoom
SEQUENCE:0
SUMMARY:Zoom Test Event
UID:368d5d50-3227-4503-b99d-e26ccbe161f6
END:VEVENT
END:VCALENDAR
