BEGIN:VCALENDAR
PRODID:-//github.com/rianjs/ical.net//NONSGML ical.net 4.0//EN
VERSION:2.0
BEGIN:VEVENT
DESCRIPTION:Details:\nhttps://bbyo.org/bbyo-near-you/regions/nassau-suffol
 k-region/aza-rlti-2
DTEND:20230122T133000
DTSTAMP:20260421T010613Z
DTSTART:20230122T113000
LOCATION:Mid Island Y JCC
SEQUENCE:0
SUMMARY:AZA RLTI 2
UID:5c309efa-4bf2-4bc2-812f-f0db4bb5acca
END:VEVENT
END:VCALENDAR
