BEGIN:VCALENDAR
PRODID:-//github.com/rianjs/ical.net//NONSGML ical.net 4.0//EN
VERSION:2.0
BEGIN:VEVENT
DESCRIPTION:Details:\nhttps://bbyo.org/bbyo-near-you/regions/wisconsin-reg
 ion/wi-oneg-1-13-17
DTEND;VALUE=DATE:20170113
DTSTAMP:20260419T122709Z
DTSTART;VALUE=DATE:20170113
LOCATION:
SEQUENCE:0
SUMMARY:WI - Oneg 1.13.17
UID:10ee5ba7-0ef5-426c-981e-66b1e9c559d1
END:VEVENT
END:VCALENDAR
