BEGIN:VCALENDAR
PRODID:-//github.com/rianjs/ical.net//NONSGML ical.net 4.0//EN
VERSION:2.0
BEGIN:VEVENT
DESCRIPTION:Details:\nhttps://bbyo.org/bbyo-near-you/regions/big-apple-reg
 ion/big-apple-regional-kallah-overnight-(2)
DTEND:20240414T110000
DTSTAMP:20260425T235327Z
DTSTART:20240413T160000
LOCATION:Little Neck New York
SEQUENCE:0
SUMMARY:Big Apple Regional Kallah Overnight
UID:9b815183-c89a-4fc5-8b54-6984d99e7768
END:VEVENT
END:VCALENDAR
