BEGIN:VCALENDAR
PRODID:-//github.com/rianjs/ical.net//NONSGML ical.net 4.0//EN
VERSION:2.0
BEGIN:VEVENT
DESCRIPTION:Details:\nhttps://bbyo.org/bbyo-near-you/regions/northern-regi
 on-east-dc-council/dc-council-powderpuff-game-isf-fundraiser\n\nSummary:\
 nJoin D.C. Council's BBGs for a Powderpuff football game from 5pm-6pm\, r
 ight before the AZAA football championship game! We will playing flag foo
 tball\, and during half time\, we will have a sp
DTEND:20151108T180000
DTSTAMP:20260421T141611Z
DTSTART:20151108T170000
LOCATION:JCC of Greater Washington
SEQUENCE:0
SUMMARY:DC Council Powderpuff Game ISF Fundraiser
UID:1202dd7d-1e23-4721-afbd-c9c95b3d8f87
END:VEVENT
END:VCALENDAR
