BEGIN:VCALENDAR
PRODID:-//github.com/rianjs/ical.net//NONSGML ical.net 4.0//EN
VERSION:2.0
BEGIN:VEVENT
DESCRIPTION:Details:\nhttps://bbyo.org/bbyo-near-you/regions/rocky-mountai
 n-region/rmr-kickoff!
DTEND:20170829T000500
DTSTAMP:20260425T123032Z
DTSTART;VALUE=DATE:20170829
LOCATION:
SEQUENCE:0
SUMMARY:RMR Kickoff!
UID:767732ce-73cd-459f-9974-12785ade7c0d
END:VEVENT
END:VCALENDAR
