BEGIN:VCALENDAR
PRODID:-//github.com/rianjs/ical.net//NONSGML ical.net 4.0//EN
VERSION:2.0
BEGIN:VEVENT
DESCRIPTION:Details:\nhttps://bbyo.org/bbyo-near-you/regions/mid-america-r
 egion-st-louis-council/slc-lti-fall-2021
DTEND:20210901T213000
DTSTAMP:20260420T100550Z
DTSTART:20210901T193000
LOCATION:JCC Chesterfield
SEQUENCE:0
SUMMARY:SLC LTI Fall 2021
UID:a279a9cb-10cf-42a8-8cb7-6c958eaf68d3
END:VEVENT
END:VCALENDAR
