BEGIN:VCALENDAR
PRODID:-//github.com/rianjs/ical.net//NONSGML ical.net 4.0//EN
VERSION:2.0
BEGIN:VEVENT
DESCRIPTION:Details:\nhttps://bbyo.org/bbyo-near-you/regions/northern-regi
 on-east-northern-virginia-council/bbyo-dc-council-fall-kickoff\n\nSummary
 :\nJoin us for DC Council's Fall Kickoff at the Montgomery County Fairgro
 und!  $14 in advance and $20 at the door.  Only cash excepted! Where your
  chapter spirit wear!!!
DTEND:20180929T223000
DTSTAMP:20260422T124757Z
DTSTART:20180929T200000
LOCATION:Gaithersburg Maryland
SEQUENCE:0
SUMMARY:BBYO DC Council Fall Kickoff
UID:27c9d31e-bbf7-45a9-8793-e7b79fa78827
END:VEVENT
END:VCALENDAR
