BEGIN:VCALENDAR
PRODID:-//github.com/rianjs/ical.net//NONSGML ical.net 4.0//EN
VERSION:2.0
BEGIN:VEVENT
DESCRIPTION:Details:\nhttps://bbyo.org/bbyo-near-you/regions/connecticut-v
 alley-region/south-windsor-kickoff-meeting
DTEND:20191106T133000
DTSTAMP:20260420T100512Z
DTSTART:20191006T123000
LOCATION:
SEQUENCE:0
SUMMARY:South Windsor Kickoff Meeting
UID:c4b4f342-d4c1-41cd-a99d-b9dee8ceaa48
END:VEVENT
END:VCALENDAR
