BEGIN:VCALENDAR
PRODID:-//github.com/rianjs/ical.net//NONSGML ical.net 4.0//EN
VERSION:2.0
BEGIN:VEVENT
DESCRIPTION:Details:\nhttps://bbyo.org/bbyo-near-you/regions/new-england-r
 egion/bbg-newton-bay-event
DTEND:20170326T000100
DTSTAMP:20260425T194625Z
DTSTART;VALUE=DATE:20170326
LOCATION:
SEQUENCE:0
SUMMARY:BBG Newton BAY event
UID:7088db45-6203-4af2-b7ff-2b8c8f35b392
END:VEVENT
END:VCALENDAR
