BEGIN:VCALENDAR
PRODID:-//github.com/rianjs/ical.net//NONSGML ical.net 4.0//EN
VERSION:2.0
BEGIN:VEVENT
DESCRIPTION:Details:\nhttps://bbyo.org/bbyo-near-you/regions/north-texas-o
 klahoma-region/summer-reunion
DTEND:20240922T170000
DTSTAMP:20260425T123015Z
DTSTART:20240922T150000
LOCATION:Lyle’s House
SEQUENCE:0
SUMMARY:Summer Reunion
UID:3454f307-e0a8-4371-a3c5-2f8c2e5538e9
END:VEVENT
END:VCALENDAR
