BEGIN:VCALENDAR
PRODID:-//github.com/rianjs/ical.net//NONSGML ical.net 4.0//EN
VERSION:2.0
BEGIN:VEVENT
DESCRIPTION:Details:\nhttps://bbyo.org/bbyo-near-you/regions/connecticut-v
 alley-region/b-yachad-2023-4-to-a-room
DTEND:20230827T140000
DTSTAMP:20260423T201125Z
DTSTART:20230825T160000
LOCATION:
SEQUENCE:0
SUMMARY:B'Yachad 2023 4 to a Room
UID:50311517-07a6-4806-9e44-60ee53e1be83
END:VEVENT
END:VCALENDAR
