BEGIN:VCALENDAR
PRODID:-//github.com/rianjs/ical.net//NONSGML ical.net 4.0//EN
VERSION:2.0
BEGIN:VEVENT
DESCRIPTION:Details:\nhttps://bbyo.org/bbyo-near-you/regions/gold-coast-re
 gion/iltc-2022\n\nSummary:\nPerlman Camp is better than ever with renovat
 ions to all the major structures and expanded living spaces. There's lots
  of green grass and outdoor space for activities\, sports\, programs\, an
 d time to relax around the iconic Perlman tree. Participants stay in cabi
 ns\, divided into four to six rooms\, which are staffed by our dedicated 
 college counselors (madrichim). The whole camp is walkable in about 15 mi
 nutes.
DTEND:20220711T090000
DTSTAMP:20260423T114512Z
DTSTART:20220623T090000
LOCATION:Lake Como Pennsylvania
SEQUENCE:0
SUMMARY:ILTC 2022
UID:41c44be7-6b29-4ab2-9916-9bd50b994d77
END:VEVENT
END:VCALENDAR
