BEGIN:VCALENDAR
PRODID:-//github.com/rianjs/ical.net//NONSGML ical.net 4.0//EN
VERSION:2.0
BEGIN:VEVENT
DESCRIPTION:Details:\nhttps://bbyo.org/bbyo-near-you/regions/northern-regi
 on-east-northern-virginia-council/nova-council-kickoff-2022\n\nSummary:\n
 Join BBYO NoVA for food and fun to start the new year! Open to all Jewish
  teens in 8th – 12th grade in Northern Virginia.
DTEND:20220918T184500
DTSTAMP:20260422T101207Z
DTSTART:20220918T161500
LOCATION:Arlington Virginia
SEQUENCE:0
SUMMARY:NoVA Council Kickoff- 2022
UID:4c8fecfd-5a23-4b71-8bc5-d904d09cd324
END:VEVENT
END:VCALENDAR
